BEGIN:VCALENDAR
VERSION:2.0
PRODID:-//wp-events-plugin.com//7.2.3.1//EN
TZID:America/Los_Angeles
X-WR-TIMEZONE:America/Los_Angeles
BEGIN:VEVENT
UID:2513@elks322.org
DTSTART;TZID=America/Los_Angeles:20260525T170000
DTEND;TZID=America/Los_Angeles:20260525T230000
DTSTAMP:20260415T160500Z
URL:https://elks322.org/events/memorial-day-lodge-closes-at-6-pm/
SUMMARY:Memorial Day - Lodge Closes at 5 PM
DESCRIPTION:Due to Memorial Day\, the lodge will close at 5 PM on Monday\, 
 May 25. No dinner will be served.
ATTACH;FMTTYPE=image/jpeg:https://i0.wp.com/elks322.org/wp-content/uploads
 /2024/03/Logo.png?fit=500%2C500&ssl=1
CATEGORIES:Holiday
END:VEVENT
BEGIN:VTIMEZONE
TZID:America/Los_Angeles
X-LIC-LOCATION:America/Los_Angeles
BEGIN:DAYLIGHT
DTSTART:20260308T030000
TZOFFSETFROM:-0800
TZOFFSETTO:-0700
TZNAME:PDT
END:DAYLIGHT
END:VTIMEZONE
END:VCALENDAR